Package: pram Version: 1.20.0 Command: /Library/Frameworks/R.framework/Resources/bin/R CMD build --keep-empty-dirs --no-resave-data pram StartedAt: 2024-06-10 02:41:56 -0400 (Mon, 10 Jun 2024) EndedAt: 2024-06-10 02:43:16 -0400 (Mon, 10 Jun 2024) EllapsedTime: 79.6 seconds RetCode: 0 Status: OK PackageFile: pram_1.20.0.tar.gz PackageFileSize: 2.666 MiB