Package: pqsfinder Version: 2.20.0 Command: E:\biocbuild\bbs-3.19-bioc\R\bin\R.exe CMD INSTALL pqsfinder StartedAt: 2024-10-16 16:12:18 -0400 (Wed, 16 Oct 2024) EndedAt: 2024-10-16 16:13:26 -0400 (Wed, 16 Oct 2024) EllapsedTime: 67.5 seconds RetCode: 0 Status: OK