Package: pqsfinder Version: 2.20.0 Command: chmod a+r pqsfinder -R && E:\biocbuild\bbs-3.19-bioc\R\bin\R.exe CMD build --keep-empty-dirs --no-resave-data pqsfinder StartedAt: 2024-10-16 21:11:55 -0400 (Wed, 16 Oct 2024) EndedAt: 2024-10-16 21:14:16 -0400 (Wed, 16 Oct 2024) EllapsedTime: 141.2 seconds RetCode: 0 Status: OK PackageFile: pqsfinder_2.20.0.tar.gz PackageFileSize: 327.3 KiB