Package: pqsfinder Version: 2.20.0 Command: rm -rf pqsfinder.buildbin-libdir && mkdir pqsfinder.buildbin-libdir && E:\biocbuild\bbs-3.19-bioc\R\bin\R.exe CMD INSTALL --build --library=pqsfinder.buildbin-libdir pqsfinder_2.20.0.tar.gz StartedAt: 2024-10-17 08:22:26 -0400 (Thu, 17 Oct 2024) EndedAt: 2024-10-17 08:23:40 -0400 (Thu, 17 Oct 2024) EllapsedTime: 73.8 seconds RetCode: 0 Status: OK PackageFile: pqsfinder_2.20.0.zip PackageFileSize: 1.231 MiB