Package: pqsfinder Version: 2.20.0 Command: rm -rf pqsfinder.buildbin-libdir && mkdir pqsfinder.buildbin-libdir && F:\biocbuild\bbs-3.19-bioc\R\bin\R.exe CMD INSTALL --build --library=pqsfinder.buildbin-libdir pqsfinder_2.20.0.tar.gz StartedAt: 2024-06-27 08:41:35 -0400 (Thu, 27 Jun 2024) EndedAt: 2024-06-27 08:42:52 -0400 (Thu, 27 Jun 2024) EllapsedTime: 77.2 seconds RetCode: 0 Status: OK PackageFile: pqsfinder_2.20.0.zip PackageFileSize: 1.232 MiB