Package: pqsfinder Version: 2.20.0 Command: rm -rf pqsfinder.buildbin-libdir && mkdir pqsfinder.buildbin-libdir && /Users/biocbuild/BBS/utils/build-universal.sh pqsfinder_2.20.0.tar.gz /Library/Frameworks/R.framework/Resources/bin/R pqsfinder.buildbin-libdir StartedAt: 2024-06-10 00:32:44 -0400 (Mon, 10 Jun 2024) EndedAt: 2024-06-10 00:33:37 -0400 (Mon, 10 Jun 2024) EllapsedTime: 53.3 seconds RetCode: 0 Status: OK PackageFile: pqsfinder_2.20.0.tgz PackageFileSize: 1.555 MiB