Package: powerTCR Version: 1.24.0 Command: /home/biocbuild/bbs-3.19-bioc/R/bin/R CMD check --install=check:powerTCR.install-out.txt --library=/home/biocbuild/bbs-3.19-bioc/R/site-library --timings powerTCR_1.24.0.tar.gz StartedAt: 2024-10-17 03:50:54 -0400 (Thu, 17 Oct 2024) EndedAt: 2024-10-17 03:52:40 -0400 (Thu, 17 Oct 2024) EllapsedTime: 105.2 seconds RetCode: 0 Status: WARNINGS CheckDir: powerTCR.Rcheck Warnings: 1