Package: powerTCR Version: 1.24.0 Command: /Library/Frameworks/R.framework/Resources/bin/R CMD build --keep-empty-dirs --no-resave-data powerTCR StartedAt: 2024-10-16 22:10:20 -0400 (Wed, 16 Oct 2024) EndedAt: 2024-10-16 22:11:38 -0400 (Wed, 16 Oct 2024) EllapsedTime: 78.0 seconds RetCode: 0 Status: OK PackageFile: powerTCR_1.24.0.tar.gz PackageFileSize: 384.1 KiB