Package: powerTCR Version: 1.24.0 Command: /Library/Frameworks/R.framework/Resources/bin/R CMD INSTALL powerTCR StartedAt: 2024-06-09 15:07:11 -0400 (Sun, 09 Jun 2024) EndedAt: 2024-06-09 15:07:34 -0400 (Sun, 09 Jun 2024) EllapsedTime: 23.0 seconds RetCode: 0 Status: OK