Package: powerTCR Version: 1.24.0 Command: /Library/Frameworks/R.framework/Resources/bin/R CMD build --keep-empty-dirs --no-resave-data powerTCR StartedAt: 2024-06-09 17:45:21 -0400 (Sun, 09 Jun 2024) EndedAt: 2024-06-09 17:45:49 -0400 (Sun, 09 Jun 2024) EllapsedTime: 28.3 seconds RetCode: 0 Status: OK PackageFile: powerTCR_1.24.0.tar.gz PackageFileSize: 384.1 KiB