Package: powerTCR Version: 1.24.0 Command: /home/biocbuild/R/R-beta-2024-04-15_r86425/bin/R CMD INSTALL powerTCR StartedAt: 2024-05-08 20:09:01 -0000 (Wed, 08 May 2024) EndedAt: 2024-05-08 20:09:29 -0000 (Wed, 08 May 2024) EllapsedTime: 27.5 seconds RetCode: 0 Status: OK