Package: powerTCR Version: 1.24.0 Command: /home/biocbuild/R/R-beta-2024-04-15_r86425/bin/R CMD check --install=check:powerTCR.install-out.txt --library=/home/biocbuild/R/R-beta-2024-04-15_r86425/site-library --no-vignettes --timings powerTCR_1.24.0.tar.gz StartedAt: 2024-05-09 10:39:08 -0000 (Thu, 09 May 2024) EndedAt: 2024-05-09 10:41:10 -0000 (Thu, 09 May 2024) EllapsedTime: 122.2 seconds RetCode: 0 Status: WARNINGS CheckDir: powerTCR.Rcheck Warnings: 1