Package: powerTCR Version: 1.24.0 Command: /Library/Frameworks/R.framework/Resources/bin/R CMD check --install=check:powerTCR.install-out.txt --library=/Library/Frameworks/R.framework/Resources/library --no-vignettes --timings powerTCR_1.24.0.tar.gz StartedAt: 2024-06-11 01:36:48 -0400 (Tue, 11 Jun 2024) EndedAt: 2024-06-11 01:39:31 -0400 (Tue, 11 Jun 2024) EllapsedTime: 163.0 seconds RetCode: 0 Status: WARNINGS CheckDir: powerTCR.Rcheck Warnings: 1