Package: powerTCR Version: 1.24.0 Command: /Library/Frameworks/R.framework/Resources/bin/R CMD build --keep-empty-dirs --no-resave-data powerTCR StartedAt: 2024-06-10 02:41:14 -0400 (Mon, 10 Jun 2024) EndedAt: 2024-06-10 02:41:55 -0400 (Mon, 10 Jun 2024) EllapsedTime: 40.5 seconds RetCode: 0 Status: OK PackageFile: powerTCR_1.24.0.tar.gz PackageFileSize: 384.2 KiB