Package: powerTCR Version: 1.24.0 Command: rm -rf powerTCR.buildbin-libdir && mkdir powerTCR.buildbin-libdir && /Users/biocbuild/BBS/utils/build-universal.sh powerTCR_1.24.0.tar.gz /Library/Frameworks/R.framework/Resources/bin/R powerTCR.buildbin-libdir StartedAt: 2024-10-18 19:59:37 -0400 (Fri, 18 Oct 2024) EndedAt: 2024-10-18 19:59:50 -0400 (Fri, 18 Oct 2024) EllapsedTime: 13.5 seconds RetCode: 0 Status: OK PackageFile: powerTCR_1.24.0.tgz PackageFileSize: 465 KiB