Package: polyester Version: 1.40.0 Command: E:\biocbuild\bbs-3.19-bioc\R\bin\R.exe CMD check --no-multiarch --install=check:polyester.install-out.txt --library=E:\biocbuild\bbs-3.19-bioc\R\library --no-vignettes --timings polyester_1.40.0.tar.gz StartedAt: 2024-10-17 04:33:27 -0400 (Thu, 17 Oct 2024) EndedAt: 2024-10-17 04:35:11 -0400 (Thu, 17 Oct 2024) EllapsedTime: 104.2 seconds RetCode: 1 Status: ERROR CheckDir: polyester.Rcheck Warnings: NA