Package: polyester Version: 1.40.0 Command: /home/biocbuild/R/R-beta-2024-04-15_r86425/bin/R CMD INSTALL polyester StartedAt: 2024-05-08 20:11:23 -0000 (Wed, 08 May 2024) EndedAt: 2024-05-08 20:11:38 -0000 (Wed, 08 May 2024) EllapsedTime: 15.5 seconds RetCode: 0 Status: OK