Package: podkat Version: 1.36.0 Command: /home/biocbuild/bbs-3.19-bioc/R/bin/R CMD check --install=check:podkat.install-out.txt --library=/home/biocbuild/bbs-3.19-bioc/R/site-library --timings podkat_1.36.0.tar.gz StartedAt: 2024-10-17 03:50:37 -0400 (Thu, 17 Oct 2024) EndedAt: 2024-10-17 03:56:52 -0400 (Thu, 17 Oct 2024) EllapsedTime: 374.9 seconds RetCode: 0 Status: OK CheckDir: podkat.Rcheck Warnings: 0