Package: podkat Version: 1.36.0 Command: /Library/Frameworks/R.framework/Resources/bin/R CMD build --keep-empty-dirs --no-resave-data podkat StartedAt: 2024-10-16 22:09:23 -0400 (Wed, 16 Oct 2024) EndedAt: 2024-10-16 22:15:21 -0400 (Wed, 16 Oct 2024) EllapsedTime: 358.1 seconds RetCode: 0 Status: OK PackageFile: podkat_1.36.0.tar.gz PackageFileSize: 1.089 MiB