Package: podkat Version: 1.36.0 Command: rm -rf podkat.buildbin-libdir && mkdir podkat.buildbin-libdir && /Users/biocbuild/BBS/utils/build-universal.sh podkat_1.36.0.tar.gz /Library/Frameworks/R.framework/Resources/bin/R podkat.buildbin-libdir StartedAt: 2024-06-10 00:32:35 -0400 (Mon, 10 Jun 2024) EndedAt: 2024-06-10 00:34:24 -0400 (Mon, 10 Jun 2024) EllapsedTime: 109.9 seconds RetCode: 0 Status: OK PackageFile: podkat_1.36.0.tgz PackageFileSize: 2.396 MiB