Package: podkat Version: 1.36.0 Command: /home/biocbuild/R/R-beta-2024-04-15_r86425/bin/R CMD check --install=check:podkat.install-out.txt --library=/home/biocbuild/R/R-beta-2024-04-15_r86425/site-library --no-vignettes --timings podkat_1.36.0.tar.gz StartedAt: 2024-05-09 10:38:35 -0000 (Thu, 09 May 2024) EndedAt: 2024-05-09 10:45:08 -0000 (Thu, 09 May 2024) EllapsedTime: 392.7 seconds RetCode: 0 Status: OK CheckDir: podkat.Rcheck Warnings: 0