Package: podkat Version: 1.36.0 Command: /home/biocbuild/R/R-beta-2024-04-15_r86425/bin/R CMD build --keep-empty-dirs --no-resave-data podkat StartedAt: 2024-05-09 02:33:59 -0000 (Thu, 09 May 2024) EndedAt: 2024-05-09 02:37:44 -0000 (Thu, 09 May 2024) EllapsedTime: 225.3 seconds RetCode: 0 Status: OK PackageFile: podkat_1.36.0.tar.gz PackageFileSize: 1.068 MiB