Package: pmp Version: 1.16.0 Command: rm -rf pmp.buildbin-libdir && mkdir pmp.buildbin-libdir && E:\biocbuild\bbs-3.19-bioc\R\bin\R.exe CMD INSTALL --build --library=pmp.buildbin-libdir pmp_1.16.0.tar.gz StartedAt: 2024-10-17 08:22:00 -0400 (Thu, 17 Oct 2024) EndedAt: 2024-10-17 08:22:45 -0400 (Thu, 17 Oct 2024) EllapsedTime: 45.5 seconds RetCode: 0 Status: OK PackageFile: pmp_1.16.0.zip PackageFileSize: 3.343 MiB