Package: pmp Version: 1.16.0 Command: /Library/Frameworks/R.framework/Resources/bin/R CMD INSTALL pmp StartedAt: 2024-10-16 15:55:32 -0400 (Wed, 16 Oct 2024) EndedAt: 2024-10-16 15:56:27 -0400 (Wed, 16 Oct 2024) EllapsedTime: 55.0 seconds RetCode: 0 Status: OK