Package: pmp Version: 1.16.0 Command: /Library/Frameworks/R.framework/Resources/bin/R CMD check --install=check:pmp.install-out.txt --library=/Library/Frameworks/R.framework/Resources/library --no-vignettes --timings pmp_1.16.0.tar.gz StartedAt: 2024-10-17 10:59:08 -0400 (Thu, 17 Oct 2024) EndedAt: 2024-10-17 11:07:02 -0400 (Thu, 17 Oct 2024) EllapsedTime: 473.4 seconds RetCode: 0 Status: OK CheckDir: pmp.Rcheck Warnings: 0