Package: pmp Version: 1.16.0 Command: /Library/Frameworks/R.framework/Resources/bin/R CMD check --install=check:pmp.install-out.txt --library=/Library/Frameworks/R.framework/Resources/library --no-vignettes --timings pmp_1.16.0.tar.gz StartedAt: 2024-10-18 07:41:23 -0400 (Fri, 18 Oct 2024) EndedAt: 2024-10-18 07:45:10 -0400 (Fri, 18 Oct 2024) EllapsedTime: 227.2 seconds RetCode: 1 Status: ERROR CheckDir: pmp.Rcheck Warnings: NA