Package: pmp Version: 1.16.0 Command: rm -rf pmp.buildbin-libdir && mkdir pmp.buildbin-libdir && /Users/biocbuild/BBS/utils/build-universal.sh pmp_1.16.0.tar.gz /Library/Frameworks/R.framework/Resources/bin/R pmp.buildbin-libdir StartedAt: 2024-10-18 19:58:58 -0400 (Fri, 18 Oct 2024) EndedAt: 2024-10-18 19:59:34 -0400 (Fri, 18 Oct 2024) EllapsedTime: 36.6 seconds RetCode: 0 Status: OK PackageFile: pmp_1.16.0.tgz PackageFileSize: 5.436 MiB