Package: pmm Version: 1.36.0 Command: rm -rf pmm.buildbin-libdir && mkdir pmm.buildbin-libdir && E:\biocbuild\bbs-3.19-bioc\R\bin\R.exe CMD INSTALL --build --library=pmm.buildbin-libdir pmm_1.36.0.tar.gz StartedAt: 2024-10-17 08:21:58 -0400 (Thu, 17 Oct 2024) EndedAt: 2024-10-17 08:22:09 -0400 (Thu, 17 Oct 2024) EllapsedTime: 10.8 seconds RetCode: 0 Status: OK PackageFile: pmm_1.36.0.zip PackageFileSize: 681.8 KiB