Package: pmm Version: 1.36.0 Command: F:\biocbuild\bbs-3.19-bioc\R\bin\R.exe CMD check --no-multiarch --install=check:pmm.install-out.txt --library=F:\biocbuild\bbs-3.19-bioc\R\library --no-vignettes --timings pmm_1.36.0.tar.gz StartedAt: 2024-06-27 04:48:36 -0400 (Thu, 27 Jun 2024) EndedAt: 2024-06-27 04:50:18 -0400 (Thu, 27 Jun 2024) EllapsedTime: 102.7 seconds RetCode: 0 Status: OK CheckDir: pmm.Rcheck Warnings: 0