Package: pmm Version: 1.36.0 Command: /Library/Frameworks/R.framework/Resources/bin/R CMD build --keep-empty-dirs --no-resave-data pmm StartedAt: 2024-10-16 22:08:59 -0400 (Wed, 16 Oct 2024) EndedAt: 2024-10-16 22:10:11 -0400 (Wed, 16 Oct 2024) EllapsedTime: 71.1 seconds RetCode: 0 Status: OK PackageFile: pmm_1.36.0.tar.gz PackageFileSize: 776.5 KiB