Package: pmm Version: 1.36.0 Command: /Library/Frameworks/R.framework/Resources/bin/R CMD build --keep-empty-dirs --no-resave-data pmm StartedAt: 2024-06-09 17:44:57 -0400 (Sun, 09 Jun 2024) EndedAt: 2024-06-09 17:45:26 -0400 (Sun, 09 Jun 2024) EllapsedTime: 29.3 seconds RetCode: 0 Status: OK PackageFile: pmm_1.36.0.tar.gz PackageFileSize: 775.7 KiB