Package: plyranges Version: 1.24.0 Command: rm -rf plyranges.buildbin-libdir && mkdir plyranges.buildbin-libdir && /Users/biocbuild/BBS/utils/build-universal.sh plyranges_1.24.0.tar.gz /Library/Frameworks/R.framework/Resources/bin/R plyranges.buildbin-libdir StartedAt: 2024-10-17 16:51:21 -0400 (Thu, 17 Oct 2024) EndedAt: 2024-10-17 16:52:56 -0400 (Thu, 17 Oct 2024) EllapsedTime: 94.6 seconds RetCode: 0 Status: OK PackageFile: plyranges_1.24.0.tgz PackageFileSize: 1.54 MiB