Package: plyranges Version: 1.24.0 Command: /Library/Frameworks/R.framework/Resources/bin/R CMD check --install=check:plyranges.install-out.txt --library=/Library/Frameworks/R.framework/Resources/library --no-vignettes --timings plyranges_1.24.0.tar.gz StartedAt: 2024-10-18 07:39:17 -0400 (Fri, 18 Oct 2024) EndedAt: 2024-10-18 07:44:54 -0400 (Fri, 18 Oct 2024) EllapsedTime: 337.6 seconds RetCode: 1 Status: ERROR CheckDir: plyranges.Rcheck Warnings: NA