Package: plotgardener Version: 1.10.2 Command: E:\biocbuild\bbs-3.19-bioc\R\bin\R.exe CMD INSTALL plotgardener StartedAt: 2024-10-16 16:34:46 -0400 (Wed, 16 Oct 2024) EndedAt: 2024-10-16 16:36:05 -0400 (Wed, 16 Oct 2024) EllapsedTime: 79.3 seconds RetCode: 0 Status: OK