Package: plotgardener Version: 1.10.2 Command: rm -rf plotgardener.buildbin-libdir && mkdir plotgardener.buildbin-libdir && E:\biocbuild\bbs-3.19-bioc\R\bin\R.exe CMD INSTALL --build --library=plotgardener.buildbin-libdir plotgardener_1.10.2.tar.gz StartedAt: 2024-10-17 08:21:52 -0400 (Thu, 17 Oct 2024) EndedAt: 2024-10-17 08:23:03 -0400 (Thu, 17 Oct 2024) EllapsedTime: 71.2 seconds RetCode: 0 Status: OK PackageFile: plotgardener_1.10.2.zip PackageFileSize: 3.567 MiB