Package: plotgardener Version: 1.10.1 Command: F:\biocbuild\bbs-3.19-bioc\R\bin\R.exe CMD INSTALL plotgardener StartedAt: 2024-06-26 16:04:23 -0400 (Wed, 26 Jun 2024) EndedAt: 2024-06-26 16:05:46 -0400 (Wed, 26 Jun 2024) EllapsedTime: 82.4 seconds RetCode: 0 Status: OK