Package: plotgardener Version: 1.10.2 Command: /home/biocbuild/bbs-3.19-bioc/R/bin/R CMD INSTALL plotgardener StartedAt: 2024-10-16 16:11:36 -0400 (Wed, 16 Oct 2024) EndedAt: 2024-10-16 16:12:22 -0400 (Wed, 16 Oct 2024) EllapsedTime: 46.3 seconds RetCode: 0 Status: OK