Package: plotGrouper Version: 1.22.0 Command: chmod a+r plotGrouper -R && E:\biocbuild\bbs-3.19-bioc\R\bin\R.exe CMD build --keep-empty-dirs --no-resave-data plotGrouper StartedAt: 2024-10-16 21:08:49 -0400 (Wed, 16 Oct 2024) EndedAt: 2024-10-16 21:09:01 -0400 (Wed, 16 Oct 2024) EllapsedTime: 12.8 seconds RetCode: 1 Status: ERROR PackageFile: None PackageFileSize: NA