Package: plotGrouper Version: 1.22.0 Command: /Library/Frameworks/R.framework/Resources/bin/R CMD check --install=check:plotGrouper.install-out.txt --library=/Library/Frameworks/R.framework/Resources/library --no-vignettes --timings plotGrouper_1.22.0.tar.gz StartedAt: 2024-10-17 10:58:00 -0400 (Thu, 17 Oct 2024) EndedAt: 2024-10-17 10:59:59 -0400 (Thu, 17 Oct 2024) EllapsedTime: 118.7 seconds RetCode: 0 Status: OK CheckDir: plotGrouper.Rcheck Warnings: 0