Package: plotGrouper Version: 1.22.0 Command: /Library/Frameworks/R.framework/Resources/bin/R CMD build --keep-empty-dirs --no-resave-data plotGrouper StartedAt: 2024-10-16 22:08:35 -0400 (Wed, 16 Oct 2024) EndedAt: 2024-10-16 22:08:59 -0400 (Wed, 16 Oct 2024) EllapsedTime: 24.0 seconds RetCode: 0 Status: OK PackageFile: plotGrouper_1.22.0.tar.gz PackageFileSize: 704.3 KiB