Package: plotGrouper Version: 1.22.0 Command: rm -rf plotGrouper.buildbin-libdir && mkdir plotGrouper.buildbin-libdir && /Users/biocbuild/BBS/utils/build-universal.sh plotGrouper_1.22.0.tar.gz /Library/Frameworks/R.framework/Resources/bin/R plotGrouper.buildbin-libdir StartedAt: 2024-10-17 16:51:17 -0400 (Thu, 17 Oct 2024) EndedAt: 2024-10-17 16:51:35 -0400 (Thu, 17 Oct 2024) EllapsedTime: 17.8 seconds RetCode: 0 Status: OK PackageFile: plotGrouper_1.22.0.tgz PackageFileSize: 369.8 KiB