Package: plier Version: 1.74.0 Command: chmod a+r plier -R && E:\biocbuild\bbs-3.19-bioc\R\bin\R.exe CMD build --keep-empty-dirs --no-resave-data plier StartedAt: 2024-10-16 21:08:30 -0400 (Wed, 16 Oct 2024) EndedAt: 2024-10-16 21:08:33 -0400 (Wed, 16 Oct 2024) EllapsedTime: 3.1 seconds RetCode: 0 Status: OK PackageFile: plier_1.74.0.tar.gz PackageFileSize: 20.32 KiB