Package: plier Version: 1.74.0 Command: rm -rf plier.buildbin-libdir && mkdir plier.buildbin-libdir && F:\biocbuild\bbs-3.19-bioc\R\bin\R.exe CMD INSTALL --build --library=plier.buildbin-libdir plier_1.74.0.tar.gz StartedAt: 2024-06-27 08:40:59 -0400 (Thu, 27 Jun 2024) EndedAt: 2024-06-27 08:41:16 -0400 (Thu, 27 Jun 2024) EllapsedTime: 16.4 seconds RetCode: 0 Status: OK PackageFile: plier_1.74.0.zip PackageFileSize: 99.19 KiB