Package: plier Version: 1.74.0 Command: /Library/Frameworks/R.framework/Resources/bin/R CMD build --keep-empty-dirs --no-resave-data plier StartedAt: 2024-10-16 22:08:20 -0400 (Wed, 16 Oct 2024) EndedAt: 2024-10-16 22:08:22 -0400 (Wed, 16 Oct 2024) EllapsedTime: 2.2 seconds RetCode: 0 Status: OK PackageFile: plier_1.74.0.tar.gz PackageFileSize: 20.33 KiB