Package: plier Version: 1.74.0 Command: rm -rf plier.buildbin-libdir && mkdir plier.buildbin-libdir && /Users/biocbuild/BBS/utils/build-universal.sh plier_1.74.0.tar.gz /Library/Frameworks/R.framework/Resources/bin/R plier.buildbin-libdir StartedAt: 2024-10-17 16:51:08 -0400 (Thu, 17 Oct 2024) EndedAt: 2024-10-17 16:51:23 -0400 (Thu, 17 Oct 2024) EllapsedTime: 14.9 seconds RetCode: 0 Status: OK PackageFile: plier_1.74.0.tgz PackageFileSize: 43.26 KiB