Package: plier Version: 1.74.0 Command: /Library/Frameworks/R.framework/Resources/bin/R CMD check --install=check:plier.install-out.txt --library=/Library/Frameworks/R.framework/Resources/library --no-vignettes --timings plier_1.74.0.tar.gz StartedAt: 2024-06-09 22:15:28 -0400 (Sun, 09 Jun 2024) EndedAt: 2024-06-09 22:16:04 -0400 (Sun, 09 Jun 2024) EllapsedTime: 36.3 seconds RetCode: 0 Status: WARNINGS CheckDir: plier.Rcheck Warnings: 1