Package: plier Version: 1.74.0 Command: rm -rf plier.buildbin-libdir && mkdir plier.buildbin-libdir && /Users/biocbuild/BBS/utils/build-universal.sh plier_1.74.0.tar.gz /Library/Frameworks/R.framework/Resources/bin/R plier.buildbin-libdir StartedAt: 2024-06-10 00:32:24 -0400 (Mon, 10 Jun 2024) EndedAt: 2024-06-10 00:32:35 -0400 (Mon, 10 Jun 2024) EllapsedTime: 10.1 seconds RetCode: 0 Status: OK PackageFile: plier_1.74.0.tgz PackageFileSize: 43.28 KiB