Package: plier Version: 1.74.0 Command: /Library/Frameworks/R.framework/Resources/bin/R CMD check --install=check:plier.install-out.txt --library=/Library/Frameworks/R.framework/Resources/library --no-vignettes --timings plier_1.74.0.tar.gz StartedAt: 2024-10-18 07:37:14 -0400 (Fri, 18 Oct 2024) EndedAt: 2024-10-18 07:37:49 -0400 (Fri, 18 Oct 2024) EllapsedTime: 34.8 seconds RetCode: 0 Status: WARNINGS CheckDir: plier.Rcheck Warnings: 1