Package: plier Version: 1.74.0 Command: rm -rf plier.buildbin-libdir && mkdir plier.buildbin-libdir && /Users/biocbuild/BBS/utils/build-universal.sh plier_1.74.0.tar.gz /Library/Frameworks/R.framework/Resources/bin/R plier.buildbin-libdir StartedAt: 2024-10-18 19:58:17 -0400 (Fri, 18 Oct 2024) EndedAt: 2024-10-18 19:58:27 -0400 (Fri, 18 Oct 2024) EllapsedTime: 10.2 seconds RetCode: 0 Status: OK PackageFile: plier_1.74.0.tgz PackageFileSize: 39.76 KiB