Package: plier Version: 1.74.0 Maintainer: Crispin Miller MaintainerEmail: cmiller at picr.man.ac.uk git_url: https://git.bioconductor.org/packages/plier git_branch: RELEASE_3_19 git_last_commit: 852c156 git_last_commit_date: 2024-04-30 10:13:33 -0400 (Tue, 30 Apr 2024)